BEGIN:VCALENDAR
VERSION:2.0
PRODID:-//eventon.com NONSGML v1.0//EN
BEGIN:VEVENT
UID:69ea2cd82af6b
DTSTAMP:20260423T162944
DTSTART:20190520T220500Z
DTEND:20190521T215500Z
LOCATION:
SUMMARY:Lübeck\,  Theaterschiff\,  Chill mal
DESCRIPTION: Lübeck\,  Theaterschiff\,  Chill mal
END:VEVENT
END:VCALENDAR