BEGIN:VCALENDAR
VERSION:2.0
PRODID:-//eventon.com NONSGML v1.0//EN
BEGIN:VEVENT
UID:69ea9f998e93b
DTSTAMP:20260424T003921
DTSTART:20200129T220500Z
DTEND:20200130T215500Z
LOCATION:
SUMMARY:Ingelheim\,  Peter&Silie/Gewölbekeller im Stadtzentrum\,  Ingelheimer Comedy Club (Mix)
DESCRIPTION: Ingelheim\,  Peter&Silie/Gewölbekeller im Stadtzentrum\,  Ingelheimer Comedy Club (Mix)
END:VEVENT
END:VCALENDAR