BEGIN:VCALENDAR
VERSION:2.0
PRODID:-//eventon.com NONSGML v1.0//EN
BEGIN:VEVENT
UID:69ed43c6d3fdd
DTSTAMP:20260426T004422
DTSTART:20210617T220000Z
DTEND:20210618T215900Z
LOCATION:
SUMMARY:Idstein\,  Kulturbahnhof\,  Abenteuer Pubertät (abgesagt)
DESCRIPTION: Idstein\,  Kulturbahnhof\,  Abenteuer Pubertät (abgesagt)
END:VEVENT
END:VCALENDAR