BEGIN:VCALENDAR
VERSION:2.0
PRODID:-//eventon.com NONSGML v1.0//EN
BEGIN:VEVENT
UID:69e73f117ac82
DTSTAMP:20260421T111041
DTSTART:20210608T220000Z
DTEND:20210609T215900Z
LOCATION:
SUMMARY:Herrenberg\,  Mauerwerk\,  Chill mal
DESCRIPTION: Herrenberg\,  Mauerwerk\,  Chill mal
END:VEVENT
END:VCALENDAR