BEGIN:VCALENDAR
VERSION:2.0
PRODID:-//eventon.com NONSGML v1.0//EN
BEGIN:VEVENT
UID:69e76bcdce8e9
DTSTAMP:20260421T142133
DTSTART:20210106T220000Z
DTEND:20210107T215900Z
LOCATION:
SUMMARY:Wuppertal\,  TalTonTheater\,  Abenteuer Pubertät (verlegt auf 09.01.2022)
DESCRIPTION: Wuppertal\,  TalTonTheater\,  Abenteuer Pubertät (verlegt auf 09.01.2022)
END:VEVENT
END:VCALENDAR