BEGIN:VCALENDAR
VERSION:2.0
PRODID:-//eventon.com NONSGML v1.0//EN
BEGIN:VEVENT
UID:69e6c62649bca
DTSTAMP:20260421T023446
DTSTART:20220210T220000Z
DTEND:20220211T215900Z
LOCATION:
SUMMARY:Höxter\,  KuStall Ottbergen\,  Chill mal
DESCRIPTION: Höxter\,  KuStall Ottbergen\,  Chill mal
END:VEVENT
END:VCALENDAR