BEGIN:VCALENDAR
VERSION:2.0
PRODID:-//eventon.com NONSGML v1.0//EN
BEGIN:VEVENT
UID:69ea88b8b1b2e
DTSTAMP:20260423T230144
DTSTART:20230617T220000Z
DTEND:20230618T215900Z
LOCATION:
SUMMARY:Bisingen\,  Hohenzollernhalle\,  Chill mal ABGESAGT
DESCRIPTION: Bisingen\,  Hohenzollernhalle\,  Chill mal ABGESAGT
END:VEVENT
END:VCALENDAR