BEGIN:VCALENDAR
VERSION:2.0
PRODID:-//eventon.com NONSGML v1.0//EN
BEGIN:VEVENT
UID:69e73d556b97f
DTSTAMP:20260421T110317
DTSTART:20260508T220000Z
DTEND:20260509T215900Z
LOCATION:
SUMMARY:Uelzen\,  Schauspielhaus\,  Chill mal
DESCRIPTION: Uelzen\,  Schauspielhaus\,  Chill mal
END:VEVENT
END:VCALENDAR