BEGIN:VCALENDAR
VERSION:2.0
PRODID:-//eventon.com NONSGML v1.0//EN
BEGIN:VEVENT
UID:69e73d2100eaf
DTSTAMP:20260421T110225
DTSTART:20241112T220000Z
DTEND:20241112T220000Z
LOCATION:
SUMMARY:Hagenbach\,  Kulturzentrum\,  Chill mal
DESCRIPTION: Hagenbach\,  Kulturzentrum\,  Chill mal
END:VEVENT
END:VCALENDAR