BEGIN:VCALENDAR
VERSION:2.0
PRODID:-//eventon.com NONSGML v1.0//EN
BEGIN:VEVENT
UID:69e4c245aaddd
DTSTAMP:20260419T135341
DTSTART:20250318T220000Z
DTEND:20250319T215900Z
LOCATION:
SUMMARY:Ludwigsburg\,  Scala\,  Kinder sind was Schönes\,  haben sie gesagt
DESCRIPTION: Ludwigsburg\,  Scala\,  Kinder sind was Schönes\,  haben sie gesagt
END:VEVENT
END:VCALENDAR