BEGIN:VCALENDAR
VERSION:2.0
PRODID:-//eventon.com NONSGML v1.0//EN
BEGIN:VEVENT
UID:69e73d394640a
DTSTAMP:20260421T110249
DTSTART:20270623T220000Z
DTEND:20270624T215900Z
LOCATION:
SUMMARY:Regensburg\,  Statt-Theater\,  In Würde Eltern (VVK-Start demnächst)
DESCRIPTION: Regensburg\,  Statt-Theater\,  In Würde Eltern (VVK-Start demnächst)
END:VEVENT
END:VCALENDAR