BEGIN:VCALENDAR
VERSION:2.0
PRODID:-//eventon.com NONSGML v1.0//EN
BEGIN:VEVENT
UID:69e73dfbdb28f
DTSTAMP:20260421T110603
DTSTART:20260509T220000Z
DTEND:20260510T215900Z
LOCATION:
SUMMARY:Celle\,  CD-Caserne\,  Chill mal
DESCRIPTION: Celle\,  CD-Caserne\,  Chill mal
END:VEVENT
END:VCALENDAR