BEGIN:VCALENDAR
VERSION:2.0
PRODID:-//eventon.com NONSGML v1.0//EN
BEGIN:VEVENT
UID:69e73e344a37a
DTSTAMP:20260421T110700
DTSTART:20270505T220000Z
DTEND:20270506T215900Z
LOCATION:
SUMMARY:Köln\,  Senftöpfchen\,  In Würde Eltern (VVK-Start demnächst)
DESCRIPTION: Köln\,  Senftöpfchen\,  In Würde Eltern (VVK-Start demnächst)
END:VEVENT
END:VCALENDAR