BEGIN:VCALENDAR
VERSION:2.0
PRODID:-//eventon.com NONSGML v1.0//EN
BEGIN:VEVENT
UID:69e73d394ae37
DTSTAMP:20260421T110249
DTSTART:20261118T220000Z
DTEND:20261119T215900Z
LOCATION:
SUMMARY:Düsseldorf\,  Kabarett Flin\,  Chill mal (VVK-Start TBA)
DESCRIPTION: Düsseldorf\,  Kabarett Flin\,  Chill mal (VVK-Start TBA)
END:VEVENT
END:VCALENDAR