BEGIN:VCALENDAR
VERSION:2.0
PRODID:-//eventon.com NONSGML v1.0//EN
BEGIN:VEVENT
UID:69e4c253c6058
DTSTAMP:20260419T135355
DTSTART:20270414T220000Z
DTEND:20270415T215900Z
LOCATION:
SUMMARY:Mainz\,  Unterhaus\,  In Würde Eltern (VVK-Start demnächst)
DESCRIPTION: Mainz\,  Unterhaus\,  In Würde Eltern (VVK-Start demnächst)
END:VEVENT
END:VCALENDAR