BEGIN:VCALENDAR
VERSION:2.0
PRODID:-//eventon.com NONSGML v1.0//EN
BEGIN:VEVENT
UID:69e4c2803bf45
DTSTAMP:20260419T135440
DTSTART:20270902T220000Z
DTEND:20270903T215900Z
LOCATION:
SUMMARY:Plön\,  Kulturnacht
DESCRIPTION: Plön\,  Kulturnacht
END:VEVENT
END:VCALENDAR