BEGIN:VCALENDAR
VERSION:2.0
PRODID:-//eventon.com NONSGML v1.0//EN
BEGIN:VEVENT
UID:69e4c2d0b482e
DTSTAMP:20260419T135600
DTSTART:20260905T220000Z
DTEND:20260906T215900Z
LOCATION:
SUMMARY:Bonn\,  Springmaus\,  Die Pubertäts-Docs (Dr. Jan-Uwe Rogge und Matthias Jung)
DESCRIPTION: Bonn\,  Springmaus\,  Die Pubertäts-Docs (Dr. Jan-Uwe Rogge und Matthias Jung)
END:VEVENT
END:VCALENDAR