BEGIN:VCALENDAR
VERSION:2.0
PRODID:-//eventon.com NONSGML v1.0//EN
BEGIN:VEVENT
UID:69e73df30f3fa
DTSTAMP:20260421T110555
DTSTART:20261218T220000Z
DTEND:20261219T215900Z
LOCATION:
SUMMARY:Aschaffenburg\,  Stadthalle\,  Die Pubertäts-Docs (Dr. Jan-Uwe Rogge und Matthias Jung)
DESCRIPTION: Aschaffenburg\,  Stadthalle\,  Die Pubertäts-Docs (Dr. Jan-Uwe Rogge und Matthias Jung)
END:VEVENT
END:VCALENDAR