BEGIN:VCALENDAR
VERSION:2.0
PRODID:-//eventon.com NONSGML v1.0//EN
BEGIN:VEVENT
UID:69e4c30ec4c46
DTSTAMP:20260419T135702
DTSTART:20270416T220000Z
DTEND:20270417T215900Z
LOCATION:
SUMMARY:Augsburg\,  Kresslesmühle\,  In Würde Eltern (VVK-Start demnächst)
DESCRIPTION: Augsburg\,  Kresslesmühle\,  In Würde Eltern (VVK-Start demnächst)
END:VEVENT
END:VCALENDAR