BEGIN:VCALENDAR
VERSION:2.0
PRODID:-//eventon.com NONSGML v1.0//EN
BEGIN:VEVENT
UID:69e4c31410f67
DTSTAMP:20260419T135708
DTSTART:20261201T220000Z
DTEND:20261202T215900Z
LOCATION:
SUMMARY:Bochum\,  Bahnhof Lengendreer\,  Die Pubertäts-Docs (Dr. Jan-Uwe Rogge und Matthias Jung)
DESCRIPTION: Bochum\,  Bahnhof Lengendreer\,  Die Pubertäts-Docs (Dr. Jan-Uwe Rogge und Matthias Jung)
END:VEVENT
END:VCALENDAR