BEGIN:VCALENDAR
VERSION:2.0
PRODID:-//eventon.com NONSGML v1.0//EN
BEGIN:VEVENT
UID:69e4c36baed26
DTSTAMP:20260419T135835
DTSTART:20261107T220000Z
DTEND:20261108T215900Z
LOCATION:
SUMMARY:Weinheim\,  Alte Druckerei\,  In Würde Eltern (Vorpremiere)
DESCRIPTION: Weinheim\,  Alte Druckerei\,  In Würde Eltern (Vorpremiere)
END:VEVENT
END:VCALENDAR