BEGIN:VCALENDAR
VERSION:2.0
PRODID:-//eventon.com NONSGML v1.0//EN
BEGIN:VEVENT
UID:69e73d55c7140
DTSTAMP:20260421T110317
DTSTART:20270521T220000Z
DTEND:20270522T215900Z
LOCATION:
SUMMARY:Meerbusch\,  Forum am Wasserturm\,  Die Pubertäts-Docs (Dr. Jan-Uwe Rogge und Matthias Jung)
DESCRIPTION: Meerbusch\,  Forum am Wasserturm\,  Die Pubertäts-Docs (Dr. Jan-Uwe Rogge und Matthias Jung)
END:VEVENT
END:VCALENDAR