BEGIN:VCALENDAR
VERSION:2.0
PRODID:-//eventon.com NONSGML v1.0//EN
BEGIN:VEVENT
UID:69e73e75862ac
DTSTAMP:20260421T110805
DTSTART:20270217T220000Z
DTEND:20270218T215900Z
LOCATION:
SUMMARY:Wuppertal\,  Die Börse\,  Die Pubertäts-Docs (Dr. Jan-Uwe Rogge und Matthias Jung)
DESCRIPTION: Wuppertal\,  Die Börse\,  Die Pubertäts-Docs (Dr. Jan-Uwe Rogge und Matthias Jung)
END:VEVENT
END:VCALENDAR