BEGIN:VCALENDAR
VERSION:2.0
PRODID:-//eventon.com NONSGML v1.0//EN
BEGIN:VEVENT
UID:69e4d3fe55e41
DTSTAMP:20260419T150918
DTSTART:20270512T220000Z
DTEND:20270513T215900Z
LOCATION:
SUMMARY:St. Ingbert\,  Stadthalle\,  Die Pubertäts-Docs (Dr. Jan-Uwe Rogge und Matthias Jung)
DESCRIPTION: St. Ingbert\,  Stadthalle\,  Die Pubertäts-Docs (Dr. Jan-Uwe Rogge und Matthias Jung)
END:VEVENT
END:VCALENDAR