BEGIN:VCALENDAR
VERSION:2.0
PRODID:-//eventon.com NONSGML v1.0//EN
BEGIN:VEVENT
UID:69e4d2a89a4a8
DTSTAMP:20260419T150336
DTSTART:20270519T220000Z
DTEND:20270520T215900Z
LOCATION:
SUMMARY:Düsseldorf\,  Kabarett Flin\,  In Würde Eltern (VVK-Start demnächst)
DESCRIPTION: Düsseldorf\,  Kabarett Flin\,  In Würde Eltern (VVK-Start demnächst)
END:VEVENT
END:VCALENDAR