BEGIN:VCALENDAR
VERSION:2.0
PRODID:-//eventon.com NONSGML v1.0//EN
BEGIN:VEVENT
UID:69e73f066df7c
DTSTAMP:20260421T111030
DTSTART:20270604T220000Z
DTEND:20270605T215900Z
LOCATION:
SUMMARY:Mönchengladbach\,  BIS\,  Abenteuer Pubertät
DESCRIPTION: Mönchengladbach\,  BIS\,  Abenteuer Pubertät
END:VEVENT
END:VCALENDAR