BEGIN:VCALENDAR
VERSION:2.0
PRODID:-//eventon.com NONSGML v1.0//EN
BEGIN:VEVENT
UID:69e4c245abdbe
DTSTAMP:20260419T135341
DTSTART:20270624T220000Z
DTEND:20270625T215900Z
LOCATION:
SUMMARY:Regensburg\,  Statt-Theater\,  In Würde Eltern (VVK-Start demnächst)
DESCRIPTION: Regensburg\,  Statt-Theater\,  In Würde Eltern (VVK-Start demnächst)
END:VEVENT
END:VCALENDAR