BEGIN:VCALENDAR
VERSION:2.0
PRODID:-//eventon.com NONSGML v1.0//EN
BEGIN:VEVENT
UID:69e4c25c941a3
DTSTAMP:20260419T135404
DTSTART:20270623T220000Z
DTEND:20270624T215900Z
LOCATION:
SUMMARY:München\,  Schlachthof\,  Die Pubertäts-Docs (Dr. Jan-Uwe Rogge und Matthias Jung) ZUSATZSHOW
DESCRIPTION: München\,  Schlachthof\,  Die Pubertäts-Docs (Dr. Jan-Uwe Rogge und Matthias Jung) ZUSATZSHOW
END:VEVENT
END:VCALENDAR