BEGIN:VCALENDAR
VERSION:2.0
PRODID:-//eventon.com NONSGML v1.0//EN
BEGIN:VEVENT
UID:69e6c7938fa5c
DTSTAMP:20260421T024051
DTSTART:20260427T220000Z
DTEND:20260428T215900Z
LOCATION:
SUMMARY:Neuwied\,  VHS\,  In Würde Eltern
DESCRIPTION: Neuwied\,  VHS\,  In Würde Eltern
END:VEVENT
END:VCALENDAR