BEGIN:VCALENDAR
VERSION:2.0
PRODID:-//eventon.com NONSGML v1.0//EN
BEGIN:VEVENT
UID:69ed57696e3ca
DTSTAMP:20260426T020809
DTSTART:20260506T220000Z
DTEND:20260507T215900Z
LOCATION:
SUMMARY:Reutlingen\,  Haus der Familie\,  Chill mal
DESCRIPTION: Reutlingen\,  Haus der Familie\,  Chill mal
END:VEVENT
END:VCALENDAR