BEGIN:VCALENDAR
VERSION:2.0
PRODID:-//eventon.com NONSGML v1.0//EN
BEGIN:VEVENT
UID:69e73e18563ce
DTSTAMP:20260421T110632
DTSTART:20280907T220000Z
DTEND:20280908T215900Z
LOCATION:
SUMMARY:Ennigerloh\,  Alter Brennerei\,  In Würde Eltern (VVK-Start demnächst)
DESCRIPTION: Ennigerloh\,  Alter Brennerei\,  In Würde Eltern (VVK-Start demnächst)
END:VEVENT
END:VCALENDAR