BEGIN:VCALENDAR
VERSION:2.0
PRODID:-//eventon.com NONSGML v1.0//EN
BEGIN:VEVENT
UID:69e73ebe496a1
DTSTAMP:20260421T110918
DTSTART:20271119T220000Z
DTEND:20271120T215900Z
LOCATION:
SUMMARY:Bad Kissingen\,  Kurtheater\,  Chill mal (VVK-Start vorr. Frühjahr 2027)
DESCRIPTION: Bad Kissingen\,  Kurtheater\,  Chill mal (VVK-Start vorr. Frühjahr 2027)
END:VEVENT
END:VCALENDAR