BEGIN:VCALENDAR
VERSION:2.0
PRODID:-//eventon.com NONSGML v1.0//EN
BEGIN:VEVENT
UID:69e68fdac206f
DTSTAMP:20260420T224306
DTSTART:20271201T220000Z
DTEND:20271202T215900Z
LOCATION:
SUMMARY:Villingen-Schwenningen\,  Theater im Capitol\,  In Würde Eltern (VVK-Start demnächst)
DESCRIPTION: Villingen-Schwenningen\,  Theater im Capitol\,  In Würde Eltern (VVK-Start demnächst)
END:VEVENT
END:VCALENDAR